BEGIN:VCALENDAR
VERSION:2.0
PRODID:-//pretix//CCCHH_Tickets//
BEGIN:VEVENT
UID:pretix-hackertours-39c3ht-0@tickets.hamburg.ccc.de
DTSTART;VALUE=DATE:20251227
DTEND;VALUE=DATE:20251231
DESCRIPTION:Tickets: https://tickets.hamburg.ccc.de/hackertours/39c3ht/\nOr
 ganizer: Hackertours
DTSTAMP:20260421T192048Z
LOCATION:Various places around Hamburg
SUMMARY:39C3 Hackertours
END:VEVENT
END:VCALENDAR
